BEGIN:VCALENDAR
VERSION:2.0
PRODID:-//Espoir Cycliste Saint-Etienne Loire - ECPv6.15.10//NONSGML v1.0//EN
CALSCALE:GREGORIAN
METHOD:PUBLISH
X-ORIGINAL-URL:https://ecsel-cyclisme.fr
X-WR-CALDESC:Évènements pour Espoir Cycliste Saint-Etienne Loire
REFRESH-INTERVAL;VALUE=DURATION:PT1H
X-Robots-Tag:noindex
X-PUBLISHED-TTL:PT1H
BEGIN:VTIMEZONE
TZID:Europe/Paris
BEGIN:DAYLIGHT
TZOFFSETFROM:+0100
TZOFFSETTO:+0200
TZNAME:CEST
DTSTART:20240331T010000
END:DAYLIGHT
BEGIN:STANDARD
TZOFFSETFROM:+0200
TZOFFSETTO:+0100
TZNAME:CET
DTSTART:20241027T010000
END:STANDARD
BEGIN:DAYLIGHT
TZOFFSETFROM:+0100
TZOFFSETTO:+0200
TZNAME:CEST
DTSTART:20250330T010000
END:DAYLIGHT
BEGIN:STANDARD
TZOFFSETFROM:+0200
TZOFFSETTO:+0100
TZNAME:CET
DTSTART:20251026T010000
END:STANDARD
BEGIN:DAYLIGHT
TZOFFSETFROM:+0100
TZOFFSETTO:+0200
TZNAME:CEST
DTSTART:20260329T010000
END:DAYLIGHT
BEGIN:STANDARD
TZOFFSETFROM:+0200
TZOFFSETTO:+0100
TZNAME:CET
DTSTART:20261025T010000
END:STANDARD
END:VTIMEZONE
BEGIN:VEVENT
DTSTART;VALUE=DATE:20251220
DTEND;VALUE=DATE:20251221
DTSTAMP:20260421T143534
CREATED:20131119T192825Z
LAST-MODIFIED:20251223T094254Z
UID:212-1766188800-1766275199@ecsel-cyclisme.fr
SUMMARY:Cyclo-cross Saint-Etienne Méons
DESCRIPTION:SAMEDI 20 DECEMBRE 2025\n\n\nLes classements :\n\n \n\nU7 / U9\n\n \n\nU11\n\n \n\nU13\n\n \n\nU15\n\n \n\nU17\n\n \n\nU19\n\n \n\nELITE\n\n \n\n \n\nLiens vers les photos :\n\n \n\nPhotos Ecole de cyclisme (U7 à U15)\n\n \n\nPhotos course U17\n\n \n\nPhotos course U19\n\n \n\nPhotos course Elite\n\n\n\n \n\n\nL’accès au parking coureurs : 
URL:https://ecsel-cyclisme.fr/event/cyclo-cross-de-saint-etienne/
LOCATION:Piste Roger RIVIERE – Parc des Sports de Méons\, rue neltner\, Saint-Etienne\, France
CATEGORIES:Organisation
ATTACH;FMTTYPE=image/jpeg:https://ecsel-cyclisme.fr/wp-content/uploads/2025/01/1DX_3957.jpg
END:VEVENT
END:VCALENDAR